Workbook

Sheet caodang
A1: BỘ LAO ĐỘNG THƯƠNG BINH VÀ XÃ HỘI | J1: CỘNG HÒA XÃ HỘI CHỦ NGHĨA ViỆT NAM
A2: TRƯỜNG ĐẠI HỌC LAO ĐỘNG - XÃ HỘI (CSII) | J2: Độc lập - Tự do - Hạnh phúc
A4: KẾT QUẢ HỌC TẬP CỦA SINH VIÊN TRƯỜNG CAO ĐẲNG KỸ THUẬT LÝ TỰ TRỌNG
A5: HỌC PHẦN GDQP-AN Thời gian học từ ngày: 22/6/2015 Đến 18/7/2015
A6: (Kèm theo quyết định số: ngày tháng 10 năm 2015 của Giám đốc)
A8: STT | B8: MSV | C8: HỌ VÀ | D8: TÊN | E8: LỚP | F8: NĂM SINH | G8: Nơi sinh | H8: HP I | J8: TBHP | K8: HP II | M8: TBHP | N8: HP III | P8: TBHP | Q8: TB M | R8: Xếp loại | S8: Kết quả | T8: GHI CHÚ
H9: 0.4 | I9: 0.6 | K9: 0.4 | L9: 0.6 | N9: 0.4 | O9: 0.6
A10: 842 | B10: 13D2010030 | C10: Vũ Minh | D10: Đăng | E10: 13CĐ-CK1 | F10: 01/4/1995 | G10: Đồng Nai | H10: 8 | I10: 5.5 | J10: =ROUND(SUMPRODUCT($H$9:$I$9,H10:I10),1) -> 6.5 | K10: 6 | L10: 3 | M10: =ROUND(SUMPRODUCT($K$9:$L$9,K10:L10),1) -> 4.2 | N10: 4 | O10: 9 | P10: =ROUND(SUMPRODUCT($N$9:$O$9,N10:O10),1) -> 7 | Q10: =((J10+M10+P10)/3) -> 5.9 | R10: =VLOOKUP(Q10,Sheet1!$A$1:$B$7,2,1) -> Trung bình | S10: =IF(MIN(J10,M10,P10,Q10)>=5,"Đạt","Không Đạt") -> Không Đạt
A11: 843 | B11: 13D3010130 | C11: Huỳnh Văn | D11: Thưởng | E11: 13CĐ-ĐT2 | F11: 08/8/1995 | G11: Tiền Giang | H11: 6 | I11: 3.5 | J11: =ROUND(SUMPRODUCT($H$9:$I$9,H11:I11),1) -> 4.5 | K11: 4 | L11: 7 | M11: =ROUND(SUMPRODUCT($K$9:$L$9,K11:L11),1) -> 5.8 | N11: 7 | O11: 5 | P11: =ROUND(SUMPRODUCT($N$9:$O$9,N11:O11),1) -> 5.8 | Q11: =((J11+M11+P11)/3) -> 5.3666667 | R11: =VLOOKUP(Q11,Sheet1!$A$1:$B$7,2,1) -> Trung bình | S11: =IF(MIN(J11,M11,P11,Q11)>=5,"Đạt","Không Đạt") -> Không Đạt
A12: 844 | B12: 13D3010045 | C12: Lê Thành | D12: Huy | E12: 13CĐ-ĐT1 | F12: 25/4/1995 | G12: Phú Yên | H12: 7 | I12: 4.5 | J12: =ROUND(SUMPRODUCT($H$9:$I$9,H12:I12),1) -> 5.5 | K12: 6 | L12: 7 | M12: =ROUND(SUMPRODUCT($K$9:$L$9,K12:L12),1) -> 6.6 | N12: 4 | O12: 5 | P12: =ROUND(SUMPRODUCT($N$9:$O$9,N12:O12),1) -> 4.6 | Q12: =((J12+M12+P12)/3) -> 5.5666667 | R12: =VLOOKUP(Q12,Sheet1!$A$1:$B$7,2,1) -> Trung bình | S12: =IF(MIN(J12,M12,P12,Q12)>=5,"Đạt","Không Đạt") -> Không Đạt
A13: 845 | B13: 13D2010173 | C13: Nguyễn | D13: Sáng | E13: 13CĐ-CK1 | F13: 29/7/1994 | G13: Bình Thuận | H13: 7 | I13: 7.5 | J13: =ROUND(SUMPRODUCT($H$9:$I$9,H13:I13),1) -> 7.3 | K13: 7 | L13: 6 | M13: =ROUND(SUMPRODUCT($K$9:$L$9,K13:L13),1) -> 6.4 | N13: 4 | O13: 5 | P13: =ROUND(SUMPRODUCT($N$9:$O$9,N13:O13),1) -> 4.6 | Q13: =((J13+M13+P13)/3) -> 6.1 | R13: =VLOOKUP(Q13,Sheet1!$A$1:$B$7,2,1) -> Trung bình khá | S13: =IF(MIN(J13,M13,P13,Q13)>=5,"Đạt","Không Đạt") -> Không Đạt
A14: 846 | B14: 13D301Đ025 | C14: Nguyễn Ngọc | D14: Dũng | E14: 13CĐ-Đ1 | F14: 16/11/1993 | G14: Bình Thuận | H14: 8 | I14: 6 | J14: =ROUND(SUMPRODUCT($H$9:$I$9,H14:I14),1) -> 6.8 | K14: 5 | L14: 3 | M14: =ROUND(SUMPRODUCT($K$9:$L$9,K14:L14),1) -> 3.8 | N14: 7 | O14: 8 | P14: =ROUND(SUMPRODUCT($N$9:$O$9,N14:O14),1) -> 7.6 | Q14: =((J14+M14+P14)/3) -> 6.0666667 | R14: =VLOOKUP(Q14,Sheet1!$A$1:$B$7,2,1) -> Trung bình khá | S14: =IF(MIN(J14,M14,P14,Q14)>=5,"Đạt","Không Đạt") -> Không Đạt
A15: 847 | B15: 13D301Đ005 | C15: Trần Minh | D15: Quang | E15: 13CĐ-Đ2 | F15: 25/11/1995 | G15: Tp. Hồ Chí Minh | H15: 5 | I15: 4 | J15: =ROUND(SUMPRODUCT($H$9:$I$9,H15:I15),1) -> 4.4 | K15: 5 | L15: 6.5 | M15: =ROUND(SUMPRODUCT($K$9:$L$9,K15:L15),1) -> 5.9 | N15: 5 | O15: 7 | P15: =ROUND(SUMPRODUCT($N$9:$O$9,N15:O15),1) -> 6.2 | Q15: =((J15+M15+P15)/3) -> 5.5 | R15: =VLOOKUP(Q15,Sheet1!$A$1:$B$7,2,1) -> Trung bình | S15: =IF(MIN(J15,M15,P15,Q15)>=5,"Đạt","Không Đạt") -> Không Đạt
A16: 848 | B16: LTT | C16: Nguyễn Thanh | D16: Tú | E16: 12CĐ-CK3 | H16: 8 | I16: 5.5 | J16: =ROUND(SUMPRODUCT($H$9:$I$9,H16:I16),1) -> 6.5 | K16: 7 | L16: 5.5 | M16: =ROUND(SUMPRODUCT($K$9:$L$9,K16:L16),1) -> 6.1 | N16: 0 | O16: 0 | P16: =ROUND(SUMPRODUCT($N$9:$O$9,N16:O16),1) -> 0 | Q16: 0 | R16: =VLOOKUP(Q16,Sheet1!$A$1:$B$7,2,1) -> Kém | S16: =IF(MIN(J16,M16,P16,Q16)>=5,"Đạt","Không Đạt") -> Không Đạt
A17: 849 | B17: LTT | C17: Nguyễn Văn | D17: Hải | E17: 12CĐ-Đ1 | H17: 5 | I17: 6.5 | J17: =ROUND(SUMPRODUCT($H$9:$I$9,H17:I17),1) -> 5.9 | K17: 0 | L17: 0 | M17: =ROUND(SUMPRODUCT($K$9:$L$9,K17:L17),1) -> 0 | N17: 0 | O17: 0 | P17: =ROUND(SUMPRODUCT($N$9:$O$9,N17:O17),1) -> 0 | Q17: 0 | R17: =VLOOKUP(Q17,Sheet1!$A$1:$B$7,2,1) -> Kém | S17: =IF(MIN(J17,M17,P17,Q17)>=5,"Đạt","Không Đạt") -> Không Đạt
A18: 850 | B18: LTT | C18: Trần Anh | D18: Văn | E18: 12CĐ-Đ2 | H18: 0 | I18: 0 | J18: =ROUND(SUMPRODUCT($H$9:$I$9,H18:I18),1) -> 0 | K18: 0 | L18: 0 | M18: =ROUND(SUMPRODUCT($K$9:$L$9,K18:L18),1) -> 0 | N18: 5 | O18: 6 | P18: =ROUND(SUMPRODUCT($N$9:$O$9,N18:O18),1) -> 5.6 | Q18: 0 | R18: =VLOOKUP(Q18,Sheet1!$A$1:$B$7,2,1) -> Kém | S18: =IF(MIN(J18,M18,P18,Q18)>=5,"Đạt","Không Đạt") -> Không Đạt
A19: 851 | B19: LTT | C19: Nguyễn Hữu | D19: Tài | E19: 11CĐ-TM2 | H19: 5 | I19: 5.5 | J19: =ROUND(SUMPRODUCT($H$9:$I$9,H19:I19),1) -> 5.3 | K19: 0 | L19: 0 | M19: =ROUND(SUMPRODUCT($K$9:$L$9,K19:L19),1) -> 0 | N19: 0 | O19: 0 | P19: =ROUND(SUMPRODUCT($N$9:$O$9,N19:O19),1) -> 0 | Q19: 0 | R19: =VLOOKUP(Q19,Sheet1!$A$1:$B$7,2,1) -> Kém | S19: =IF(MIN(J19,M19,P19,Q19)>=5,"Đạt","Không Đạt") -> Không Đạt
A20: 852 | B20: LTT | C20: Cao Lê Hồng | D20: Phát | E20: 11CĐ-Ô2 | H20: 0 | I20: 0 | J20: =ROUND(SUMPRODUCT($H$9:$I$9,H20:I20),1) -> 0 | K20: 0 | L20: 0 | M20: =ROUND(SUMPRODUCT($K$9:$L$9,K20:L20),1) -> 0 | N20: 0 | O20: 0 | P20: =ROUND(SUMPRODUCT($N$9:$O$9,N20:O20),1) -> 0 | Q20: =((J20+M20+P20)/3) -> 0 | R20: =VLOOKUP(Q20,Sheet1!$A$1:$B$7,2,1) -> Kém | S20: =IF(MIN(J20,M20,P20,Q20)>=5,"Đạt","Không Đạt") -> Không Đạt
A21: 853 | B21: LTT | C21: Huỳnh Phong | D21: Vũ | H21: 0 | I21: 0 | J21: =ROUND(SUMPRODUCT($H$9:$I$9,H21:I21),1) -> 0 | K21: 0 | L21: 0 | M21: =ROUND(SUMPRODUCT($K$9:$L$9,K21:L21),1) -> 0 | N21: 7 | O21: 8 | P21: =((N21*4+O21*6)/10) -> 7.6 | Q21: 0 | R21: =VLOOKUP(Q21,Sheet1!$A$1:$B$7,2,1) -> Kém | S21: =IF(MIN(J21,M21,P21,Q21)>=5,"Đạt","Không Đạt") -> Không Đạt
A22: 854 | B22: LTT | C22: Đặng Thị Kim | D22: Xuyến | H22: 0 | I22: 0 | J22: =ROUND(SUMPRODUCT($H$9:$I$9,H22:I22),1) -> 0 | K22: 0 | L22: 0 | M22: =ROUND(SUMPRODUCT($K$9:$L$9,K22:L22),1) -> 0 | N22: 7 | O22: 6 | P22: =((N22*4+O22*6)/10) -> 6.4 | Q22: 0 | R22: =VLOOKUP(Q22,Sheet1!$A$1:$B$7,2,1) -> Kém | S22: =IF(MIN(J22,M22,P22,Q22)>=5,"Đạt","Không Đạt") -> Không Đạt
A23: 855 | B23: 13D2060009 | C23: Nguyễn Văn | D23: Dương | E23: 13CĐ-NL1 | F23: 12/6/1994 | G23: Bình Thuận | H23: 2 | I23: 5 | J23: =ROUND(SUMPRODUCT($H$9:$I$9,H23:I23),1) -> 3.8 | K23: 7 | L23: 8.5 | M23: =ROUND(SUMPRODUCT($K$9:$L$9,K23:L23),1) -> 7.9 | N23: 6 | O23: 6 | P23: =((N23*4+O23*6)/10) -> 6 | Q23: =((J23+M23+P23)/3) -> 5.9 | R23: =VLOOKUP(Q23,Sheet1!$A$1:$B$7,2,1) -> Trung bình | S23: =IF(MIN(J23,M23,P23,Q23)>=5,"Đạt","Không Đạt") -> Không Đạt | T23: HL HP I
A24: 856 | B24: 13D301Đ193 | C24: Phạm Công | D24: Chính | E24: 13CĐ-Đ1 | F24: 14/02/1994 | G24: Kiên Giang | H24: 5 | I24: 6 | J24: =ROUND(SUMPRODUCT($H$9:$I$9,H24:I24),1) -> 5.6 | K24: 5 | L24: 5.5 | M24: =ROUND(SUMPRODUCT($K$9:$L$9,K24:L24),1) -> 5.3 | N24: 0 | O24: 0 | P24: =((N24*4+O24*6)/10) -> 0 | Q24: =((J24+M24+P24)/3) -> 3.6333333 | R24: =VLOOKUP(Q24,Sheet1!$A$1:$B$7,2,1) -> Kém | S24: =IF(MIN(J24,M24,P24,Q24)>=5,"Đạt","Không Đạt") -> Không Đạt | T24: Học lại HP III
A25: 857 | B25: 13D301Đ028 | C25: Hoàng Văn | D25: Duy | E25: 13CĐ-Đ1 | F25: 02/8/1991 | G25: Ninh Bình | H25: 5 | I25: 9 | J25: =ROUND(SUMPRODUCT($H$9:$I$9,H25:I25),1) -> 7.4 | K25: 5 | L25: 8 | M25: =ROUND(SUMPRODUCT($K$9:$L$9,K25:L25),1) -> 6.8 | N25: 0 | O25: 0 | P25: =((N25*4+O25*6)/10) -> 0 | Q25: =((J25+M25+P25)/3) -> 4.7333333 | R25: =VLOOKUP(Q25,Sheet1!$A$1:$B$7,2,1) -> Yếu | S25: =IF(MIN(J25,M25,P25,Q25)>=5,"Đạt","Không Đạt") -> Không Đạt | T25: Hoc lại HP III
A26: 858 | B26: 13D301Đ167 | C26: Phạm Lê Tuấn | D26: Tú | E26: 13CĐ-Đ2 | F26: 22/9/1993 | G26: Tp. Hồ Chí Minh | H26: 0 | I26: 0 | J26: =ROUND(SUMPRODUCT($H$9:$I$9,H26:I26),1) -> 0 | K26: 3 | L26: 0 | M26: =ROUND(SUMPRODUCT($K$9:$L$9,K26:L26),1) -> 1.2 | N26: 0 | O26: 0 | P26: =((N26*4+O26*6)/10) -> 0 | Q26: =((J26+M26+P26)/3) -> 0.4 | R26: =VLOOKUP(Q26,Sheet1!$A$1:$B$7,2,1) -> Kém | S26: =IF(MIN(J26,M26,P26,Q26)>=5,"Đạt","Không Đạt") -> Không Đạt | T26: HL HP I, II, III
A27: 859 | B27: 13D301Đ111 | C27: Hồ Văn | D27: Quý | E27: 13CĐ-Đ3 | F27: 17/6/1994 | G27: Khánh Hòa | H27: 3 | I27: 8 | J27: =ROUND(SUMPRODUCT($H$9:$I$9,H27:I27),1) -> 6 | K27: 0 | L27: 0 | M27: =ROUND(SUMPRODUCT($K$9:$L$9,K27:L27),1) -> 0 | N27: 6 | O27: 8 | P27: =((N27*4+O27*6)/10) -> 7.2 | Q27: =((J27+M27+P27)/3) -> 4.4 | R27: =VLOOKUP(Q27,Sheet1!$A$1:$B$7,2,1) -> Yếu | S27: =IF(MIN(J27,M27,P27,Q27)>=5,"Đạt","Không Đạt") -> Không Đạt | T27: Học lại HP II
A28: 860 | B28: 13D301Đ159 | C28: Huỳnh Minh | D28: Trung | E28: 13CĐ-Đ3 | F28: 25/8/1995 | G28: Long An | H28: 3 | I28: 3 | J28: =ROUND(SUMPRODUCT($H$9:$I$9,H28:I28),1) -> 3 | K28: 0 | L28: 0 | M28: =ROUND(SUMPRODUCT($K$9:$L$9,K28:L28),1) -> 0 | N28: 7 | O28: 9 | P28: =((N28*4+O28*6)/10) -> 8.2 | Q28: =((J28+M28+P28)/3) -> 3.7333333 | R28: =VLOOKUP(Q28,Sheet1!$A$1:$B$7,2,1) -> Kém | S28: =IF(MIN(J28,M28,P28,Q28)>=5,"Đạt","Không Đạt") -> Không Đạt | T28: HL HP I, II
A29: 861 | B29: 13D301Đ165 | C29: Hoàng Thanh | D29: Tú | E29: 13CĐ-Đ3 | F29: 07/7/1994 | G29: Kiên Giang | H29: 3 | I29: 4 | J29: =ROUND(SUMPRODUCT($H$9:$I$9,H29:I29),1) -> 3.6 | K29: 6 | L29: 4.5 | M29: =ROUND(SUMPRODUCT($K$9:$L$9,K29:L29),1) -> 5.1 | N29: 0 | O29: 0 | P29: =((N29*4+O29*6)/10) -> 0 | Q29: =((J29+M29+P29)/3) -> 2.9 | R29: =VLOOKUP(Q29,Sheet1!$A$1:$B$7,2,1) -> Kém | S29: =IF(MIN(J29,M29,P29,Q29)>=5,"Đạt","Không Đạt") -> Không Đạt | T29: HL HP I, III
A30: 862 | B30: 13D301Đ171 | C30: Võ Xuân | D30: Tùng | E30: 13CĐ-Đ3 | F30: 13/7/1991 | G30: Bà Rịa - Vũng Tàu | H30: 3 | I30: 7 | J30: =ROUND(SUMPRODUCT($H$9:$I$9,H30:I30),1) -> 5.4 | K30: 0 | L30: 0 | M30: =ROUND(SUMPRODUCT($K$9:$L$9,K30:L30),1) -> 0 | N30: 7 | O30: 7 | P30: =((N30*4+O30*6)/10) -> 7 | Q30: =((J30+M30+P30)/3) -> 4.1333333 | R30: =VLOOKUP(Q30,Sheet1!$A$1:$B$7,2,1) -> Yếu | S30: =IF(MIN(J30,M30,P30,Q30)>=5,"Đạt","Không Đạt") -> Không Đạt | T30: HL HP II
A31: 863 | B31: 13D201P016 | C31: Đào Mạnh | D31: Duy | E31: 13CĐ-TP1 | F31: 04/10/1995 | G31: Gia Lai | H31: 3 | I31: 7 | J31: =ROUND(SUMPRODUCT($H$9:$I$9,H31:I31),1) -> 5.4 | K31: 7 | L31: 5 | M31: =ROUND(SUMPRODUCT($K$9:$L$9,K31:L31),1) -> 5.8 | N31: 4 | O31: 0 | P31: =((N31*4+O31*6)/10) -> 1.6 | Q31: =((J31+M31+P31)/3) -> 4.2666667 | R31: =VLOOKUP(Q31,Sheet1!$A$1:$B$7,2,1) -> Yếu | S31: =IF(MIN(J31,M31,P31,Q31)>=5,"Đạt","Không Đạt") -> Không Đạt | T31: HL HP III
A32: 864 | B32: 13D201P035 | C32: Viên Phan Anh | D32: Khương | E32: 13CĐ-TP1 | F32: 04/11/1995 | G32: Tp. Hồ Chí Minh | H32: 8 | I32: 3.5 | J32: =ROUND(SUMPRODUCT($H$9:$I$9,H32:I32),1) -> 5.3 | K32: 0 | L32: 0 | M32: =ROUND(SUMPRODUCT($K$9:$L$9,K32:L32),1) -> 0 | N32: 7 | O32: 9 | P32: =((N32*4+O32*6)/10) -> 8.2 | Q32: =((J32+M32+P32)/3) -> 4.5 | R32: =VLOOKUP(Q32,Sheet1!$A$1:$B$7,2,1) -> Yếu | S32: =IF(MIN(J32,M32,P32,Q32)>=5,"Đạt","Không Đạt") -> Không Đạt | T32: HL HP II
A33: 865 | B33: 13D201P061 | C33: Bùi Thế | D33: Quân | E33: 13CĐ-TP1 | F33: 31/5/1992 | G33: Bà Rịa - Vũng Tàu | H33: 8 | I33: 3 | J33: =ROUND(SUMPRODUCT($H$9:$I$9,H33:I33),1) -> 5 | K33: 0 | L33: 0 | M33: =ROUND(SUMPRODUCT($K$9:$L$9,K33:L33),1) -> 0 | N33: 0 | O33: 0 | P33: =((N33*4+O33*6)/10) -> 0 | Q33: =((J33+M33+P33)/3) -> 1.6666667 | R33: =VLOOKUP(Q33,Sheet1!$A$1:$B$7,2,1) -> Kém | S33: =IF(MIN(J33,M33,P33,Q33)>=5,"Đạt","Không Đạt") -> Không Đạt | T33: HL HP II, III
A34: 866 | B34: 13D2050046 | C34: Lê Thanh | D34: Hải | E34: 13CĐ-Ô1 | F34: 26/3/1995 | G34: Tp. Hồ Chí Minh | H34: 3 | I34: 6.5 | J34: =ROUND(SUMPRODUCT($H$9:$I$9,H34:I34),1) -> 5.1 | K34: 0 | L34: 0 | M34: =ROUND(SUMPRODUCT($K$9:$L$9,K34:L34),1) -> 0 | N34: 6 | O34: 5 | P34: =((N34*4+O34*6)/10) -> 5.4 | Q34: =((J34+M34+P34)/3) -> 3.5 | R34: =VLOOKUP(Q34,Sheet1!$A$1:$B$7,2,1) -> Kém | S34: =IF(MIN(J34,M34,P34,Q34)>=5,"Đạt","Không Đạt") -> Không Đạt | T34: HL HP II
... A50: 882 | B50: 13D3010155 | C50: Lâm Xuân | D50: Vũ | E50: 13CĐ-ĐT1 | F50: 01/5/1995 | G50: Hà Tĩnh | H50: 6 | I50: 5 | J50: =ROUND(SUMPRODUCT($H$9:$I$9,H50:I50),1) -> 5.4 | K50: 0 | L50: 0 | M50: =ROUND(SUMPRODUCT($K$9:$L$9,K50:L50),1) -> 0 | N50: 9 | O50: 9 | P50: =((N50*4+O50*6)/10) -> 9 | Q50: =((J50+M50+P50)/3) -> 4.8 | R50: =VLOOKUP(Q50,Sheet1!$A$1:$B$7,2,1) -> Yếu | S50: =IF(MIN(J50,M50,P50,Q50)>=5,"Đạt","Không Đạt") -> Không Đạt | T50: HL HP II
A51: 883 | B51: 12D2060092 | C51: Nguyễn Quốc | D51: Việt | E51: 13CĐ-NL1 | G51: Long An | H51: 7 | I51: 4 | J51: =ROUND(SUMPRODUCT($H$9:$I$9,H51:I51),1) -> 5.2 | K51: 7 | L51: 4.5 | M51: =ROUND(SUMPRODUCT($K$9:$L$9,K51:L51),1) -> 5.5 | N51: 3 | O51: 0 | P51: =((N51*4+O51*6)/10) -> 1.2 | Q51: =((J51+M51+P51)/3) -> 3.9666667 | R51: =VLOOKUP(Q51,Sheet1!$A$1:$B$7,2,1) -> Kém | S51: =IF(MIN(J51,M51,P51,Q51)>=5,"Đạt","Không Đạt") -> Không Đạt | T51: HL HP III
A52: 884 | B52: 13D2060065 | C52: Huỳnh Thanh | D52: Vinh | E52: 13CĐ-NL1 | F52: 12/12/1994 | G52: Long An | H52: 0 | I52: 0 | J52: =ROUND(SUMPRODUCT($H$9:$I$9,H52:I52),1) -> 0 | K52: 0 | L52: 0 | M52: =ROUND(SUMPRODUCT($K$9:$L$9,K52:L52),1) -> 0 | N52: 0 | O52: 0 | P52: =((N52*4+O52*6)/10) -> 0 | Q52: =((J52+M52+P52)/3) -> 0 | R52: =VLOOKUP(Q52,Sheet1!$A$1:$B$7,2,1) -> Kém | S52: không học | T52: không học
A53: 885 | B53: 13D2060006 | C53: Hà Phúc Thanh | D53: Chương | E53: 13CĐ-NL2 | F53: 08/7/1995 | G53: Tp. Hồ Chí Minh | H53: 0 | I53: 0 | J53: =ROUND(SUMPRODUCT($H$9:$I$9,H53:I53),1) -> 0 | K53: 0 | L53: 0 | M53: =ROUND(SUMPRODUCT($K$9:$L$9,K53:L53),1) -> 0 | N53: 0 | O53: 0 | P53: =((N53*4+O53*6)/10) -> 0 | Q53: =((J53+M53+P53)/3) -> 0 | R53: =VLOOKUP(Q53,Sheet1!$A$1:$B$7,2,1) -> Kém | S53: không học | T53: không học
A54: 886 | B54: 13D2060014 | C54: Nguyễn Hoàng | D54: Hải | E54: 13CĐ-NL2 | F54: 16/6/1995 | G54: Tp. Hồ Chí Minh | H54: 0 | I54: 0 | J54: =ROUND(SUMPRODUCT($H$9:$I$9,H54:I54),1) -> 0 | K54: 0 | L54: 0 | M54: =ROUND(SUMPRODUCT($K$9:$L$9,K54:L54),1) -> 0 | N54: 0 | O54: 0 | P54: =((N54*4+O54*6)/10) -> 0 | Q54: =((J54+M54+P54)/3) -> 0 | R54: =VLOOKUP(Q54,Sheet1!$A$1:$B$7,2,1) -> Kém | S54: không học | T54: không học
A55: 887 | B55: 13D2060072 | C55: Đinh Hồ | D55: Huy | E55: 13CĐ-NL2 | F55: 24/12/1995 | G55: Quảng Ngãi | H55: 0 | I55: 0 | J55: =ROUND(SUMPRODUCT($H$9:$I$9,H55:I55),1) -> 0 | K55: 0 | L55: 0 | M55: =ROUND(SUMPRODUCT($K$9:$L$9,K55:L55),1) -> 0 | N55: 0 | O55: 0 | P55: =((N55*4+O55*6)/10) -> 0 | Q55: =((J55+M55+P55)/3) -> 0 | R55: =VLOOKUP(Q55,Sheet1!$A$1:$B$7,2,1) -> Kém | S55: không học | T55: không học
A56: 888 | B56: 13D2060032 | C56: Nguyễn Thế | D56: Nam | E56: 13CĐ-NL2 | F56: 09/01/1995 | G56: Tp. Hồ Chí Minh | H56: 0 | I56: 0 | J56: =ROUND(SUMPRODUCT($H$9:$I$9,H56:I56),1) -> 0 | K56: 0 | L56: 0 | M56: =ROUND(SUMPRODUCT($K$9:$L$9,K56:L56),1) -> 0 | N56: 0 | O56: 0 | P56: =((N56*4+O56*6)/10) -> 0 | Q56: =((J56+M56+P56)/3) -> 0 | R56: =VLOOKUP(Q56,Sheet1!$A$1:$B$7,2,1) -> Kém | S56: không học | T56: không học
A57: 889 | B57: 13D2060036 | C57: Nguyễn Quang | D57: Nhật | E57: 13CĐ-NL2 | F57: 17/01/1994 | G57: Tp. Hồ Chí Minh | H57: 0 | I57: 0 | J57: =ROUND(SUMPRODUCT($H$9:$I$9,H57:I57),1) -> 0 | K57: 0 | L57: 0 | M57: =ROUND(SUMPRODUCT($K$9:$L$9,K57:L57),1) -> 0 | N57: 0 | O57: 0 | P57: =((N57*4+O57*6)/10) -> 0 | Q57: =((J57+M57+P57)/3) -> 0 | R57: =VLOOKUP(Q57,Sheet1!$A$1:$B$7,2,1) -> Kém | S57: không học | T57: không học
...

Sheet HLđợt3
A1: ỦY BAN NHÂN DÂN THÀNH PHỐ HỒ CHÍ MINH | J1: CỘNG HÒA XÃ HỘI CHỦ NGHĨA ViỆT NAM
A2: TRƯỜNG CAO ĐẲNG KỸ THUẬT LÝ TỰ TRỌNG TP.HỒ CHÍ MINH | J2: Độc lập - Tự do - Hạnh phúc
A4: KẾT QUẢ HỌC TẬP CỦA SINH VIÊN KHÓA 13 CĐ
A5: HỌC PHẦN GIÁO DỤC QUỐC PHÒNG - AN NINH
A8: STT | B8: MSV | C8: HỌ VÀ | D8: TÊN | E8: LỚP | F8: NĂM SINH | G8: Nơi sinh | H8: HP I | J8: Điểm học phần 1 | K8: HP II | M8: Điểm học phần 2 | N8: HP III | P8: Điểm học phần 3 | Q8: GHI CHÚ
H9: 0.4 | I9: 0.6 | K9: 0.4 | L9: 0.6 | N9: 0.4 | O9: 0.6
A10: 842 | B10: 13D2010030 | C10: Vũ Minh | D10: Đăng | E10: 13CĐ-CK1 | F10: 01/4/1995 | G10: Đồng Nai | H10: 8 | I10: 5.5 | J10: =ROUND(SUMPRODUCT($H$9:$I$9,H10:I10),1) -> 6.5 | K10: 6 | L10: 3 | M10: =ROUND(SUMPRODUCT($K$9:$L$9,K10:L10),1) -> 4.2 | N10: 4 | O10: 9 | P10: =ROUND(SUMPRODUCT($N$9:$O$9,N10:O10),1) -> 7
A11: 843 | B11: 13D3010130 | C11: Huỳnh Văn | D11: Thưởng | E11: 13CĐ-ĐT2 | F11: 08/8/1995 | G11: Tiền Giang | H11: 6 | I11: 3.5 | J11: =ROUND(SUMPRODUCT($H$9:$I$9,H11:I11),1) -> 4.5 | K11: 4 | L11: 7 | M11: =ROUND(SUMPRODUCT($K$9:$L$9,K11:L11),1) -> 5.8 | N11: 7 | O11: 5 | P11: =ROUND(SUMPRODUCT($N$9:$O$9,N11:O11),1) -> 5.8
A12: 844 | B12: 13D3010045 | C12: Lê Thành | D12: Huy | E12: 13CĐ-ĐT1 | F12: 25/4/1995 | G12: Phú Yên | H12: 7 | I12: 4.5 | J12: =ROUND(SUMPRODUCT($H$9:$I$9,H12:I12),1) -> 5.5 | K12: 6 | L12: 7 | M12: =ROUND(SUMPRODUCT($K$9:$L$9,K12:L12),1) -> 6.6 | N12: 4 | O12: 5 | P12: =ROUND(SUMPRODUCT($N$9:$O$9,N12:O12),1) -> 4.6
A13: 845 | B13: 13D2010173 | C13: Nguyễn | D13: Sáng | E13: 13CĐ-CK1 | F13: 29/7/1994 | G13: Bình Thuận | H13: 7 | I13: 7.5 | J13: =ROUND(SUMPRODUCT($H$9:$I$9,H13:I13),1) -> 7.3 | K13: 7 | L13: 6 | M13: =ROUND(SUMPRODUCT($K$9:$L$9,K13:L13),1) -> 6.4 | N13: 4 | O13: 5 | P13: =ROUND(SUMPRODUCT($N$9:$O$9,N13:O13),1) -> 4.6
A14: 846 | B14: 13D301Đ025 | C14: Nguyễn Ngọc | D14: Dũng | E14: 13CĐ-Đ1 | F14: 16/11/1993 | G14: Bình Thuận | H14: 8 | I14: 6 | J14: =ROUND(SUMPRODUCT($H$9:$I$9,H14:I14),1) -> 6.8 | K14: 5 | L14: 3 | M14: =ROUND(SUMPRODUCT($K$9:$L$9,K14:L14),1) -> 3.8 | N14: 7 | O14: 8 | P14: =ROUND(SUMPRODUCT($N$9:$O$9,N14:O14),1) -> 7.6
A15: 847 | B15: 13D301Đ005 | C15: Trần Minh | D15: Quang | E15: 13CĐ-Đ2 | F15: 25/11/1995 | G15: Tp. Hồ Chí Minh | H15: 5 | I15: 4 | J15: =ROUND(SUMPRODUCT($H$9:$I$9,H15:I15),1) -> 4.4 | K15: 5 | L15: 6.5 | M15: =ROUND(SUMPRODUCT($K$9:$L$9,K15:L15),1) -> 5.9 | N15: 5 | O15: 7 | P15: =ROUND(SUMPRODUCT($N$9:$O$9,N15:O15),1) -> 6.2
A16: 848 | B16: LTT | C16: Nguyễn Thanh | D16: Tú | E16: 12CĐ-CK3 | H16: 8 | I16: 5.5 | J16: =ROUND(SUMPRODUCT($H$9:$I$9,H16:I16),1) -> 6.5 | K16: 7 | L16: 5.5 | M16: =ROUND(SUMPRODUCT($K$9:$L$9,K16:L16),1) -> 6.1 | N16: 0 | O16: 0 | P16: =ROUND(SUMPRODUCT($N$9:$O$9,N16:O16),1) -> 0
A17: 849 | B17: LTT | C17: Nguyễn Văn | D17: Hải | E17: 12CĐ-Đ1 | H17: 5 | I17: 6.5 | J17: =ROUND(SUMPRODUCT($H$9:$I$9,H17:I17),1) -> 5.9 | K17: 0 | L17: 0 | M17: =ROUND(SUMPRODUCT($K$9:$L$9,K17:L17),1) -> 0 | N17: 0 | O17: 0 | P17: =ROUND(SUMPRODUCT($N$9:$O$9,N17:O17),1) -> 0
A18: 850 | B18: LTT | C18: Trần Anh | D18: Văn | E18: 12CĐ-Đ2 | H18: 0 | I18: 0 | J18: =ROUND(SUMPRODUCT($H$9:$I$9,H18:I18),1) -> 0 | K18: 0 | L18: 0 | M18: =ROUND(SUMPRODUCT($K$9:$L$9,K18:L18),1) -> 0 | N18: 5 | O18: 6 | P18: =ROUND(SUMPRODUCT($N$9:$O$9,N18:O18),1) -> 5.6
A19: 851 | B19: LTT | C19: Nguyễn Hữu | D19: Tài | E19: 11CĐ-TM2 | H19: 5 | I19: 5.5 | J19: =ROUND(SUMPRODUCT($H$9:$I$9,H19:I19),1) -> 5.3 | K19: 0 | L19: 0 | M19: =ROUND(SUMPRODUCT($K$9:$L$9,K19:L19),1) -> 0 | N19: 0 | O19: 0 | P19: =ROUND(SUMPRODUCT($N$9:$O$9,N19:O19),1) -> 0
A20: 852 | B20: LTT | C20: Cao Lê Hồng | D20: Phát | E20: 11CĐ-Ô2 | H20: 0 | I20: 0 | J20: =ROUND(SUMPRODUCT($H$9:$I$9,H20:I20),1) -> 0 | K20: 0 | L20: 0 | M20: =ROUND(SUMPRODUCT($K$9:$L$9,K20:L20),1) -> 0 | N20: 0 | O20: 0 | P20: =ROUND(SUMPRODUCT($N$9:$O$9,N20:O20),1) -> 0
A21: 853 | B21: LTT | C21: Huỳnh Phong | D21: Vũ | H21: 0 | I21: 0 | J21: =ROUND(SUMPRODUCT($H$9:$I$9,H21:I21),1) -> 0 | K21: 0 | L21: 0 | M21: =ROUND(SUMPRODUCT($K$9:$L$9,K21:L21),1) -> 0 | N21: 7 | O21: 8 | P21: =((N21*4+O21*6)/10) -> 7.6
A22: 854 | B22: LTT | C22: Đặng Thị Kim | D22: Xuyến | H22: 0 | I22: 0 | J22: =ROUND(SUMPRODUCT($H$9:$I$9,H22:I22),1) -> 0 | K22: 0 | L22: 0 | M22: =ROUND(SUMPRODUCT($K$9:$L$9,K22:L22),1) -> 0 | N22: 7 | O22: 6 | P22: =((N22*4+O22*6)/10) -> 6.4
A23: 855 | B23: 13D2060009 | C23: Nguyễn Văn | D23: Dương | E23: 13CĐ-NL1 | F23: 12/6/1994 | G23: Bình Thuận | H23: 2 | I23: 5 | J23: =ROUND(SUMPRODUCT($H$9:$I$9,H23:I23),1) -> 3.8 | K23: 7 | L23: 8.5 | M23: =ROUND(SUMPRODUCT($K$9:$L$9,K23:L23),1) -> 7.9 | N23: 6 | O23: 6 | P23: =((N23*4+O23*6)/10) -> 6 | Q23: HL HP I
A24: 856 | B24: 13D301Đ193 | C24: Phạm Công | D24: Chính | E24: 13CĐ-Đ1 | F24: 14/02/1994 | G24: Kiên Giang | H24: 5 | I24: 6 | J24: =ROUND(SUMPRODUCT($H$9:$I$9,H24:I24),1) -> 5.6 | K24: 5 | L24: 5.5 | M24: =ROUND(SUMPRODUCT($K$9:$L$9,K24:L24),1) -> 5.3 | N24: 0 | O24: 0 | P24: =((N24*4+O24*6)/10) -> 0 | Q24: Học lại HP III
A25: 857 | B25: 13D301Đ028 | C25: Hoàng Văn | D25: Duy | E25: 13CĐ-Đ1 | F25: 02/8/1991 | G25: Ninh Bình | H25: 5 | I25: 9 | J25: =ROUND(SUMPRODUCT($H$9:$I$9,H25:I25),1) -> 7.4 | K25: 5 | L25: 8 | M25: =ROUND(SUMPRODUCT($K$9:$L$9,K25:L25),1) -> 6.8 | N25: 0 | O25: 0 | P25: =((N25*4+O25*6)/10) -> 0 | Q25: Hoc lại HP III
A26: 858 | B26: 13D301Đ167 | C26: Phạm Lê Tuấn | D26: Tú | E26: 13CĐ-Đ2 | F26: 22/9/1993 | G26: Tp. Hồ Chí Minh | H26: 0 | I26: 0 | J26: =ROUND(SUMPRODUCT($H$9:$I$9,H26:I26),1) -> 0 | K26: 3 | L26: 0 | M26: =ROUND(SUMPRODUCT($K$9:$L$9,K26:L26),1) -> 1.2 | N26: 0 | O26: 0 | P26: =((N26*4+O26*6)/10) -> 0 | Q26: HL HP I, II, III
A27: 859 | B27: 13D301Đ111 | C27: Hồ Văn | D27: Quý | E27: 13CĐ-Đ3 | F27: 17/6/1994 | G27: Khánh Hòa | H27: 3 | I27: 8 | J27: =ROUND(SUMPRODUCT($H$9:$I$9,H27:I27),1) -> 6 | K27: 0 | L27: 0 | M27: =ROUND(SUMPRODUCT($K$9:$L$9,K27:L27),1) -> 0 | N27: 6 | O27: 8 | P27: =((N27*4+O27*6)/10) -> 7.2 | Q27: Học lại HP II
A28: 860 | B28: 13D301Đ159 | C28: Huỳnh Minh | D28: Trung | E28: 13CĐ-Đ3 | F28: 25/8/1995 | G28: Long An | H28: 3 | I28: 3 | J28: =ROUND(SUMPRODUCT($H$9:$I$9,H28:I28),1) -> 3 | K28: 0 | L28: 0 | M28: =ROUND(SUMPRODUCT($K$9:$L$9,K28:L28),1) -> 0 | N28: 7 | O28: 9 | P28: =((N28*4+O28*6)/10) -> 8.2 | Q28: HL HP I, II
A29: 861 | B29: 13D301Đ165 | C29: Hoàng Thanh | D29: Tú | E29: 13CĐ-Đ3 | F29: 07/7/1994 | G29: Kiên Giang | H29: 3 | I29: 4 | J29: =ROUND(SUMPRODUCT($H$9:$I$9,H29:I29),1) -> 3.6 | K29: 6 | L29: 4.5 | M29: =ROUND(SUMPRODUCT($K$9:$L$9,K29:L29),1) -> 5.1 | N29: 0 | O29: 0 | P29: =((N29*4+O29*6)/10) -> 0 | Q29: HL HP I, III
A30: 862 | B30: 13D301Đ171 | C30: Võ Xuân | D30: Tùng | E30: 13CĐ-Đ3 | F30: 13/7/1991 | G30: Bà Rịa - Vũng Tàu | H30: 3 | I30: 7 | J30: =ROUND(SUMPRODUCT($H$9:$I$9,H30:I30),1) -> 5.4 | K30: 0 | L30: 0 | M30: =ROUND(SUMPRODUCT($K$9:$L$9,K30:L30),1) -> 0 | N30: 7 | O30: 7 | P30: =((N30*4+O30*6)/10) -> 7 | Q30: HL HP II
A31: 863 | B31: 13D201P016 | C31: Đào Mạnh | D31: Duy | E31: 13CĐ-TP1 | F31: 04/10/1995 | G31: Gia Lai | H31: 3 | I31: 7 | J31: =ROUND(SUMPRODUCT($H$9:$I$9,H31:I31),1) -> 5.4 | K31: 7 | L31: 5 | M31: =ROUND(SUMPRODUCT($K$9:$L$9,K31:L31),1) -> 5.8 | N31: 4 | O31: 0 | P31: =((N31*4+O31*6)/10) -> 1.6 | Q31: HL HP III
A32: 864 | B32: 13D201P035 | C32: Viên Phan Anh | D32: Khương | E32: 13CĐ-TP1 | F32: 04/11/1995 | G32: Tp. Hồ Chí Minh | H32: 8 | I32: 3.5 | J32: =ROUND(SUMPRODUCT($H$9:$I$9,H32:I32),1) -> 5.3 | K32: 0 | L32: 0 | M32: =ROUND(SUMPRODUCT($K$9:$L$9,K32:L32),1) -> 0 | N32: 7 | O32: 9 | P32: =((N32*4+O32*6)/10) -> 8.2 | Q32: HL HP II
A33: 865 | B33: 13D201P061 | C33: Bùi Thế | D33: Quân | E33: 13CĐ-TP1 | F33: 31/5/1992 | G33: Bà Rịa - Vũng Tàu | H33: 8 | I33: 3 | J33: =ROUND(SUMPRODUCT($H$9:$I$9,H33:I33),1) -> 5 | K33: 0 | L33: 0 | M33: =ROUND(SUMPRODUCT($K$9:$L$9,K33:L33),1) -> 0 | N33: 0 | O33: 0 | P33: =((N33*4+O33*6)/10) -> 0 | Q33: HL HP II, III
A34: 866 | B34: 13D2050046 | C34: Lê Thanh | D34: Hải | E34: 13CĐ-Ô1 | F34: 26/3/1995 | G34: Tp. Hồ Chí Minh | H34: 3 | I34: 6.5 | J34: =ROUND(SUMPRODUCT($H$9:$I$9,H34:I34),1) -> 5.1 | K34: 0 | L34: 0 | M34: =ROUND(SUMPRODUCT($K$9:$L$9,K34:L34),1) -> 0 | N34: 6 | O34: 5 | P34: =((N34*4+O34*6)/10) -> 5.4 | Q34: HL HP II
... A50: 882 | B50: 13D3010155 | C50: Lâm Xuân | D50: Vũ | E50: 13CĐ-ĐT1 | F50: 01/5/1995 | G50: Hà Tĩnh | H50: 6 | I50: 5 | J50: =ROUND(SUMPRODUCT($H$9:$I$9,H50:I50),1) -> 5.4 | K50: 0 | L50: 0 | M50: =ROUND(SUMPRODUCT($K$9:$L$9,K50:L50),1) -> 0 | N50: 9 | O50: 9 | P50: =((N50*4+O50*6)/10) -> 9 | Q50: HL HP II
A51: 883 | B51: 12D2060092 | C51: Nguyễn Quốc | D51: Việt | E51: 13CĐ-NL1 | G51: Long An | H51: 7 | I51: 4 | J51: =ROUND(SUMPRODUCT($H$9:$I$9,H51:I51),1) -> 5.2 | K51: 7 | L51: 4.5 | M51: =ROUND(SUMPRODUCT($K$9:$L$9,K51:L51),1) -> 5.5 | N51: 3 | O51: 0 | P51: =((N51*4+O51*6)/10) -> 1.2 | Q51: HL HP III
A52: 884 | B52: 13D2060065 | C52: Huỳnh Thanh | D52: Vinh | E52: 13CĐ-NL1 | F52: 12/12/1994 | G52: Long An | H52: 0 | I52: 0 | J52: =ROUND(SUMPRODUCT($H$9:$I$9,H52:I52),1) -> 0 | K52: 0 | L52: 0 | M52: =ROUND(SUMPRODUCT($K$9:$L$9,K52:L52),1) -> 0 | N52: 0 | O52: 0 | P52: =((N52*4+O52*6)/10) -> 0 | Q52: không học
A53: 885 | B53: 13D2060006 | C53: Hà Phúc Thanh | D53: Chương | E53: 13CĐ-NL2 | F53: 08/7/1995 | G53: Tp. Hồ Chí Minh | H53: 0 | I53: 0 | J53: =ROUND(SUMPRODUCT($H$9:$I$9,H53:I53),1) -> 0 | K53: 0 | L53: 0 | M53: =ROUND(SUMPRODUCT($K$9:$L$9,K53:L53),1) -> 0 | N53: 0 | O53: 0 | P53: =((N53*4+O53*6)/10) -> 0 | Q53: không học
A54: 886 | B54: 13D2060014 | C54: Nguyễn Hoàng | D54: Hải | E54: 13CĐ-NL2 | F54: 16/6/1995 | G54: Tp. Hồ Chí Minh | H54: 0 | I54: 0 | J54: =ROUND(SUMPRODUCT($H$9:$I$9,H54:I54),1) -> 0 | K54: 0 | L54: 0 | M54: =ROUND(SUMPRODUCT($K$9:$L$9,K54:L54),1) -> 0 | N54: 0 | O54: 0 | P54: =((N54*4+O54*6)/10) -> 0 | Q54: không học
A55: 887 | B55: 13D2060072 | C55: Đinh Hồ | D55: Huy | E55: 13CĐ-NL2 | F55: 24/12/1995 | G55: Quảng Ngãi | H55: 0 | I55: 0 | J55: =ROUND(SUMPRODUCT($H$9:$I$9,H55:I55),1) -> 0 | K55: 0 | L55: 0 | M55: =ROUND(SUMPRODUCT($K$9:$L$9,K55:L55),1) -> 0 | N55: 0 | O55: 0 | P55: =((N55*4+O55*6)/10) -> 0 | Q55: không học
A56: 888 | B56: 13D2060032 | C56: Nguyễn Thế | D56: Nam | E56: 13CĐ-NL2 | F56: 09/01/1995 | G56: Tp. Hồ Chí Minh | H56: 0 | I56: 0 | J56: =ROUND(SUMPRODUCT($H$9:$I$9,H56:I56),1) -> 0 | K56: 0 | L56: 0 | M56: =ROUND(SUMPRODUCT($K$9:$L$9,K56:L56),1) -> 0 | N56: 0 | O56: 0 | P56: =((N56*4+O56*6)/10) -> 0 | Q56: không học
A57: 889 | B57: 13D2060036 | C57: Nguyễn Quang | D57: Nhật | E57: 13CĐ-NL2 | F57: 17/01/1994 | G57: Tp. Hồ Chí Minh | H57: 0 | I57: 0 | J57: =ROUND(SUMPRODUCT($H$9:$I$9,H57:I57),1) -> 0 | K57: 0 | L57: 0 | M57: =ROUND(SUMPRODUCT($K$9:$L$9,K57:L57),1) -> 0 | N57: 0 | O57: 0 | P57: =((N57*4+O57*6)/10) -> 0 | Q57: không học
A58: 890 | B58: 13D2060058 | C58: Ngô Đặng Nhật | D58: Trường | E58: 13CĐ-NL2 | F58: 09/3/1995 | G58: Bình Thuận | H58: 0 | I58: 0 | J58: =ROUND(SUMPRODUCT($H$9:$I$9,H58:I58),1) -> 0 | K58: 0 | L58: 0 | M58: =ROUND(SUMPRODUCT($K$9:$L$9,K58:L58),1) -> 0 | N58: 0 | O58: 0 | P58: =((N58*4+O58*6)/10) -> 0 | Q58: không học
...

Sheet Sheet1
A1: 0 | B1: Kém
A2: 4 | B2: Yếu
A3: 5 | B3: Trung bình
A4: 6 | B4: Trung bình khá
A5: 7 | B5: Khá
A6: 8 | B6: Giỏi
A7: 9 | B7: Xuất sắc
